BEGIN:VCALENDAR
VERSION:2.0
PRODID:-//KC Rijssen - ECPv6.15.20//NONSGML v1.0//EN
CALSCALE:GREGORIAN
METHOD:PUBLISH
X-ORIGINAL-URL:https://kcrijssen.nl
X-WR-CALDESC:Evenementen voor KC Rijssen
REFRESH-INTERVAL;VALUE=DURATION:PT1H
X-Robots-Tag:noindex
X-PUBLISHED-TTL:PT1H
BEGIN:VTIMEZONE
TZID:Europe/Paris
BEGIN:DAYLIGHT
TZOFFSETFROM:+0100
TZOFFSETTO:+0200
TZNAME:CEST
DTSTART:20180325T010000
END:DAYLIGHT
BEGIN:STANDARD
TZOFFSETFROM:+0200
TZOFFSETTO:+0100
TZNAME:CET
DTSTART:20181028T010000
END:STANDARD
BEGIN:DAYLIGHT
TZOFFSETFROM:+0100
TZOFFSETTO:+0200
TZNAME:CEST
DTSTART:20190331T010000
END:DAYLIGHT
BEGIN:STANDARD
TZOFFSETFROM:+0200
TZOFFSETTO:+0100
TZNAME:CET
DTSTART:20191027T010000
END:STANDARD
BEGIN:DAYLIGHT
TZOFFSETFROM:+0100
TZOFFSETTO:+0200
TZNAME:CEST
DTSTART:20200329T010000
END:DAYLIGHT
BEGIN:STANDARD
TZOFFSETFROM:+0200
TZOFFSETTO:+0100
TZNAME:CET
DTSTART:20201025T010000
END:STANDARD
END:VTIMEZONE
BEGIN:VEVENT
DTSTART;TZID=Europe/Paris:20191005T080000
DTEND;TZID=Europe/Paris:20191005T170000
DTSTAMP:20260424T132121
CREATED:20181209T124027Z
LAST-MODIFIED:20181209T124027Z
UID:6481-1570262400-1570294800@kcrijssen.nl
SUMMARY:A\,B & C examens
DESCRIPTION:
URL:https://kcrijssen.nl/event/ab-c-examens-3/
END:VEVENT
BEGIN:VEVENT
DTSTART;TZID=Europe/Paris:20191007T080000
DTEND;TZID=Europe/Paris:20191007T170000
DTSTAMP:20260424T132121
CREATED:20181209T124318Z
LAST-MODIFIED:20181209T124318Z
UID:6487-1570435200-1570467600@kcrijssen.nl
SUMMARY:A\,B\, & C opgave
DESCRIPTION:
URL:https://kcrijssen.nl/event/ab-c-opgave-3/
END:VEVENT
BEGIN:VEVENT
DTSTART;TZID=Europe/Paris:20191014T080000
DTEND;TZID=Europe/Paris:20191014T170000
DTSTAMP:20260424T132121
CREATED:20181209T124543Z
LAST-MODIFIED:20181209T124543Z
UID:6493-1571040000-1571072400@kcrijssen.nl
SUMMARY:A\,B\, & C begin
DESCRIPTION:
URL:https://kcrijssen.nl/event/ab-c-begin-3/
END:VEVENT
END:VCALENDAR