BEGIN:VCALENDAR
VERSION:2.0
PRODID:-//KC Rijssen - ECPv6.15.20//NONSGML v1.0//EN
CALSCALE:GREGORIAN
METHOD:PUBLISH
X-WR-CALNAME:KC Rijssen
X-ORIGINAL-URL:https://kcrijssen.nl
X-WR-CALDESC:Evenementen voor KC Rijssen
REFRESH-INTERVAL;VALUE=DURATION:PT1H
X-Robots-Tag:noindex
X-PUBLISHED-TTL:PT1H
BEGIN:VTIMEZONE
TZID:Europe/Paris
BEGIN:DAYLIGHT
TZOFFSETFROM:+0100
TZOFFSETTO:+0200
TZNAME:CEST
DTSTART:20180325T010000
END:DAYLIGHT
BEGIN:STANDARD
TZOFFSETFROM:+0200
TZOFFSETTO:+0100
TZNAME:CET
DTSTART:20181028T010000
END:STANDARD
BEGIN:DAYLIGHT
TZOFFSETFROM:+0100
TZOFFSETTO:+0200
TZNAME:CEST
DTSTART:20190331T010000
END:DAYLIGHT
BEGIN:STANDARD
TZOFFSETFROM:+0200
TZOFFSETTO:+0100
TZNAME:CET
DTSTART:20191027T010000
END:STANDARD
BEGIN:DAYLIGHT
TZOFFSETFROM:+0100
TZOFFSETTO:+0200
TZNAME:CEST
DTSTART:20200329T010000
END:DAYLIGHT
BEGIN:STANDARD
TZOFFSETFROM:+0200
TZOFFSETTO:+0100
TZNAME:CET
DTSTART:20201025T010000
END:STANDARD
END:VTIMEZONE
BEGIN:VEVENT
DTSTART;TZID=Europe/Paris:20190716T080000
DTEND;TZID=Europe/Paris:20190902T170000
DTSTAMP:20260424T123017
CREATED:20181209T125038Z
LAST-MODIFIED:20190507T172707Z
UID:6503-1563264000-1567443600@kcrijssen.nl
SUMMARY:Zomerstop ABC
DESCRIPTION:
URL:https://kcrijssen.nl/event/zomerstop-abc/
END:VEVENT
BEGIN:VEVENT
DTSTART;TZID=Europe/Paris:20190902T080000
DTEND;TZID=Europe/Paris:20190902T080000
DTSTAMP:20260424T123017
CREATED:20181211T211655Z
LAST-MODIFIED:20181211T211655Z
UID:6514-1567411200-1567411200@kcrijssen.nl
SUMMARY:Begin A\,B & C
DESCRIPTION:
URL:https://kcrijssen.nl/event/begin-ab-c/
END:VEVENT
BEGIN:VEVENT
DTSTART;TZID=Europe/Paris:20190903T190000
DTEND;TZID=Europe/Paris:20190903T200000
DTSTAMP:20260424T123017
CREATED:20181209T124846Z
LAST-MODIFIED:20181211T211410Z
UID:6499-1567537200-1567540800@kcrijssen.nl
SUMMARY:UV informatie avond
DESCRIPTION:
URL:https://kcrijssen.nl/event/uv-informatie-avond/
END:VEVENT
END:VCALENDAR